Package: monaLisa Version: 1.15.0 Command: /home/biocbuild/bbs-3.22-bioc/R/bin/R CMD build --keep-empty-dirs --no-resave-data --md5 monaLisa StartedAt: 2025-07-06 18:05:23 -0400 (Sun, 06 Jul 2025) EndedAt: 2025-07-06 18:09:50 -0400 (Sun, 06 Jul 2025) EllapsedTime: 267.3 seconds RetCode: 0 Status: OK PackageFile: monaLisa_1.15.0.tar.gz PackageFileSize: 5.975 MiB