Package: monaLisa Version: 1.15.0 Command: /Library/Frameworks/R.framework/Resources/bin/R CMD build --keep-empty-dirs --no-resave-data monaLisa StartedAt: 2025-07-13 17:40:59 -0400 (Sun, 13 Jul 2025) EndedAt: 2025-07-13 17:46:11 -0400 (Sun, 13 Jul 2025) EllapsedTime: 312.0 seconds RetCode: 0 Status: OK PackageFile: monaLisa_1.15.0.tar.gz PackageFileSize: 6.893 MiB