Package: monaLisa Version: 1.15.0 Command: rm -rf monaLisa.buildbin-libdir && mkdir monaLisa.buildbin-libdir && /Users/biocbuild/BBS/utils/build-universal.sh monaLisa_1.15.0.tar.gz /Library/Frameworks/R.framework/Resources/bin/R monaLisa.buildbin-libdir StartedAt: 2025-07-14 22:26:18 -0400 (Mon, 14 Jul 2025) EndedAt: 2025-07-14 22:26:37 -0400 (Mon, 14 Jul 2025) EllapsedTime: 19.3 seconds RetCode: 0 Status: OK PackageFile: monaLisa_1.15.0.tgz PackageFileSize: 7.082 MiB