Package: mogsa Version: 1.43.0 Command: /Library/Frameworks/R.framework/Resources/bin/R CMD INSTALL mogsa StartedAt: 2025-10-08 15:22:29 -0400 (Wed, 08 Oct 2025) EndedAt: 2025-10-08 15:22:38 -0400 (Wed, 08 Oct 2025) EllapsedTime: 9.3 seconds RetCode: 0 Status: OK