Package: mogsa Version: 1.43.0 Command: rm -rf mogsa.buildbin-libdir && mkdir mogsa.buildbin-libdir && /Users/biocbuild/BBS/utils/build-universal.sh mogsa_1.43.0.tar.gz /Library/Frameworks/R.framework/Resources/bin/R mogsa.buildbin-libdir StartedAt: 2025-10-08 22:55:11 -0400 (Wed, 08 Oct 2025) EndedAt: 2025-10-08 22:55:21 -0400 (Wed, 08 Oct 2025) EllapsedTime: 10.2 seconds RetCode: 0 Status: OK PackageFile: mogsa_1.43.0.tgz PackageFileSize: 1.221 MiB