Package: mobileRNA Version: 1.5.0 Command: /home/biocbuild/R/R/bin/R CMD INSTALL mobileRNA StartedAt: 2025-07-10 21:36:59 -0000 (Thu, 10 Jul 2025) EndedAt: 2025-07-10 21:37:46 -0000 (Thu, 10 Jul 2025) EllapsedTime: 46.8 seconds RetCode: 0 Status: OK