Package: mobileRNA Version: 1.5.0 Command: /Library/Frameworks/R.framework/Resources/bin/R CMD INSTALL mobileRNA StartedAt: 2025-07-02 15:27:46 -0400 (Wed, 02 Jul 2025) EndedAt: 2025-07-02 15:28:36 -0400 (Wed, 02 Jul 2025) EllapsedTime: 50.0 seconds RetCode: 0 Status: OK