Package: moanin Version: 1.17.0 Command: /home/biocbuild/R/R/bin/R CMD INSTALL moanin StartedAt: 2025-07-14 21:07:30 -0000 (Mon, 14 Jul 2025) EndedAt: 2025-07-14 21:08:16 -0000 (Mon, 14 Jul 2025) EllapsedTime: 46.4 seconds RetCode: 0 Status: OK