Package: moanin Version: 1.17.0 Command: /home/biocbuild/R/R/bin/R CMD check --install=check:moanin.install-out.txt --library=/home/biocbuild/R/R/site-library --no-vignettes --timings moanin_1.17.0.tar.gz StartedAt: 2025-07-18 08:46:10 -0000 (Fri, 18 Jul 2025) EndedAt: 2025-07-18 08:53:50 -0000 (Fri, 18 Jul 2025) EllapsedTime: 459.7 seconds RetCode: 0 Status: OK CheckDir: moanin.Rcheck Warnings: 0