Package: moanin Version: 1.17.0 Command: chmod a+r moanin -R && F:\biocbuild\bbs-3.22-bioc\R\bin\R.exe CMD build --keep-empty-dirs --no-resave-data moanin StartedAt: 2025-07-20 20:24:32 -0400 (Sun, 20 Jul 2025) EndedAt: 2025-07-20 20:26:10 -0400 (Sun, 20 Jul 2025) EllapsedTime: 97.9 seconds RetCode: 0 Status: OK PackageFile: moanin_1.17.0.tar.gz PackageFileSize: 478.1 KiB