Package: moanin Version: 1.17.0 Command: rm -rf moanin.buildbin-libdir && mkdir moanin.buildbin-libdir && F:\biocbuild\bbs-3.22-bioc\R\bin\R.exe CMD INSTALL --build --library=moanin.buildbin-libdir moanin_1.17.0.tar.gz StartedAt: 2025-07-21 09:30:13 -0400 (Mon, 21 Jul 2025) EndedAt: 2025-07-21 09:31:14 -0400 (Mon, 21 Jul 2025) EllapsedTime: 61.4 seconds RetCode: 0 Status: OK PackageFile: moanin_1.17.0.zip PackageFileSize: 927.7 KiB