Package: moanin Version: 1.17.0 Command: /home/biocbuild/bbs-3.22-bioc/R/bin/R CMD check --install=check:moanin.install-out.txt --library=/home/biocbuild/bbs-3.22-bioc/R/site-library --timings moanin_1.17.0.tar.gz StartedAt: 2025-07-15 00:14:41 -0400 (Tue, 15 Jul 2025) EndedAt: 2025-07-15 00:20:11 -0400 (Tue, 15 Jul 2025) EllapsedTime: 330.3 seconds RetCode: 0 Status: OK CheckDir: moanin.Rcheck Warnings: 0