Package: moanin Version: 1.17.0 Command: /home/biocbuild/bbs-3.22-bioc/R/bin/R CMD build --keep-empty-dirs --no-resave-data --md5 moanin StartedAt: 2025-07-14 18:10:30 -0400 (Mon, 14 Jul 2025) EndedAt: 2025-07-14 18:11:27 -0400 (Mon, 14 Jul 2025) EllapsedTime: 57.1 seconds RetCode: 0 Status: OK PackageFile: moanin_1.17.0.tar.gz PackageFileSize: 524.5 KiB