Package: moanin Version: 1.17.0 Command: /Library/Frameworks/R.framework/Resources/bin/R CMD INSTALL moanin StartedAt: 2025-07-02 15:32:58 -0400 (Wed, 02 Jul 2025) EndedAt: 2025-07-02 15:33:44 -0400 (Wed, 02 Jul 2025) EllapsedTime: 46.2 seconds RetCode: 0 Status: OK