Package: moanin Version: 1.17.0 Command: /Library/Frameworks/R.framework/Resources/bin/R CMD check --install=check:moanin.install-out.txt --library=/Library/Frameworks/R.framework/Resources/library --no-vignettes --timings moanin_1.17.0.tar.gz StartedAt: 2025-07-13 20:11:41 -0400 (Sun, 13 Jul 2025) EndedAt: 2025-07-13 20:13:33 -0400 (Sun, 13 Jul 2025) EllapsedTime: 112.4 seconds RetCode: 0 Status: OK CheckDir: moanin.Rcheck Warnings: 0