Package: mixOmics Version: 6.33.0 Command: /Library/Frameworks/R.framework/Resources/bin/R CMD build --keep-empty-dirs --no-resave-data mixOmics StartedAt: 2025-07-07 17:36:32 -0400 (Mon, 07 Jul 2025) EndedAt: 2025-07-07 17:50:26 -0400 (Mon, 07 Jul 2025) EllapsedTime: 833.6 seconds RetCode: 0 Status: OK PackageFile: mixOmics_6.33.0.tar.gz PackageFileSize: 18.96 MiB