Package: mitology Version: 1.1.0 Command: /home/biocbuild/R/R/bin/R CMD check --install=check:mitology.install-out.txt --library=/home/biocbuild/R/R/site-library --no-vignettes --timings mitology_1.1.0.tar.gz StartedAt: 2025-07-15 09:30:34 -0000 (Tue, 15 Jul 2025) EndedAt: 2025-07-15 09:33:52 -0000 (Tue, 15 Jul 2025) EllapsedTime: 198.2 seconds RetCode: 0 Status: OK CheckDir: mitology.Rcheck Warnings: 0