Package: mitology Version: 1.1.0 Command: /home/biocbuild/R/R/bin/R CMD build --keep-empty-dirs --no-resave-data mitology StartedAt: 2025-07-15 01:07:34 -0000 (Tue, 15 Jul 2025) EndedAt: 2025-07-15 01:08:25 -0000 (Tue, 15 Jul 2025) EllapsedTime: 51.1 seconds RetCode: 0 Status: OK PackageFile: mitology_1.1.0.tar.gz PackageFileSize: 2.56 MiB