Package: mitology Version: 1.1.0 Command: F:\biocbuild\bbs-3.22-bioc\R\bin\R.exe CMD INSTALL mitology StartedAt: 2025-07-20 15:50:02 -0400 (Sun, 20 Jul 2025) EndedAt: 2025-07-20 15:50:28 -0400 (Sun, 20 Jul 2025) EllapsedTime: 25.8 seconds RetCode: 0 Status: OK