Package: mitology Version: 1.1.0 Command: chmod a+r mitology -R && F:\biocbuild\bbs-3.22-bioc\R\bin\R.exe CMD build --keep-empty-dirs --no-resave-data mitology StartedAt: 2025-07-20 20:22:39 -0400 (Sun, 20 Jul 2025) EndedAt: 2025-07-20 20:23:43 -0400 (Sun, 20 Jul 2025) EllapsedTime: 63.6 seconds RetCode: 0 Status: OK PackageFile: mitology_1.1.0.tar.gz PackageFileSize: 2.439 MiB