Package: mitology Version: 1.1.0 Command: rm -rf mitology.buildbin-libdir && mkdir mitology.buildbin-libdir && F:\biocbuild\bbs-3.22-bioc\R\bin\R.exe CMD INSTALL --build --library=mitology.buildbin-libdir mitology_1.1.0.tar.gz StartedAt: 2025-07-21 09:29:38 -0400 (Mon, 21 Jul 2025) EndedAt: 2025-07-21 09:30:03 -0400 (Mon, 21 Jul 2025) EllapsedTime: 25.8 seconds RetCode: 0 Status: OK PackageFile: mitology_1.1.0.zip PackageFileSize: 1.759 MiB