Package: mitology Version: 1.1.0 Command: /Library/Frameworks/R.framework/Resources/bin/R CMD INSTALL mitology StartedAt: 2025-07-01 15:43:52 -0400 (Tue, 01 Jul 2025) EndedAt: 2025-07-01 15:44:14 -0400 (Tue, 01 Jul 2025) EllapsedTime: 22.6 seconds RetCode: 0 Status: OK