Package: mitology Version: 1.1.0 Command: /Library/Frameworks/R.framework/Resources/bin/R CMD INSTALL mitology StartedAt: 2025-07-03 15:10:18 -0400 (Thu, 03 Jul 2025) EndedAt: 2025-07-03 15:10:24 -0400 (Thu, 03 Jul 2025) EllapsedTime: 6.5 seconds RetCode: 0 Status: OK