############################################################################## ############################################################################## ### ### Running command: ### ### /home/biocbuild/R/R/bin/R CMD INSTALL mitoClone2 ### ############################################################################## ############################################################################## * installing to library ‘/home/biocbuild/R/R-4.5.0/site-library’ * installing *source* package ‘mitoClone2’ ... ** this is package ‘mitoClone2’ version ‘1.15.1’ ** using staged installation ** libs using C++ compiler: ‘aarch64-unknown-linux-gnu-g++ (GCC) 14.2.0’ /opt/ohpc/pub/compiler/gcc/14.2.0/bin/aarch64-unknown-linux-gnu-g++ -std=gnu++17 -D_FILE_OFFSET_BITS=64 ../inst/SCITEpkg/*.cpp -o scite ../inst/SCITEpkg/findBestTrees.cpp:58:8: warning: built-in function ‘gamma’ declared as non-function [-Wbuiltin-declaration-mismatch] 58 | double gamma = 1; | ^~~~~ mkdir -p "/home/biocbuild/R/R-4.5.0/site-library/00LOCK-mitoClone2/00new/mitoClone2/SCITE/" cp scite "/home/biocbuild/R/R-4.5.0/site-library/00LOCK-mitoClone2/00new/mitoClone2/SCITE/" rm scite /opt/ohpc/pub/compiler/gcc/14.2.0/bin/aarch64-unknown-linux-gnu-g++ -std=gnu++17 -I"/home/biocbuild/R/R-4.5.0/include" -DNDEBUG -D_FILE_OFFSET_BITS=64 -I'/home/biocbuild/R/R-4.5.0/site-library/Rhtslib/include' -I/usr/local/include -fPIC -g -O2 -Wall -Werror=format-security -c bam2R_10x.cpp -o bam2R_10x.o /opt/ohpc/pub/compiler/gcc/14.2.0/bin/aarch64-unknown-linux-gnu-g++ -std=gnu++17 -shared -L/home/biocbuild/R/R-4.5.0/lib -L/usr/local/lib -o mitoClone2.so bam2R_10x.o /home/biocbuild/R/R-4.5.0/site-library/Rhtslib/usrlib/libhts.a -lcurl -lbz2 -llzma -lz -L/home/biocbuild/R/R-4.5.0/lib -lR installing to /home/biocbuild/R/R-4.5.0/site-library/00LOCK-mitoClone2/00new/mitoClone2/libs ** R ** data ** inst ** byte-compile and prepare package for lazy loading ** help *** installing help indices *** copying figures ** building package indices ** installing vignettes ** testing if installed package can be loaded from temporary location ** checking absolute paths in shared objects and dynamic libraries ** testing if installed package can be loaded from final location ** testing if installed package keeps a record of temporary installation path * DONE (mitoClone2)