Package: mitoClone2 Version: 1.15.1 Command: /home/biocbuild/R/R/bin/R CMD check --install=check:mitoClone2.install-out.txt --library=/home/biocbuild/R/R/site-library --no-vignettes --timings mitoClone2_1.15.1.tar.gz StartedAt: 2025-07-22 09:18:12 -0000 (Tue, 22 Jul 2025) EndedAt: 2025-07-22 09:25:19 -0000 (Tue, 22 Jul 2025) EllapsedTime: 427.5 seconds RetCode: 0 Status: WARNINGS CheckDir: mitoClone2.Rcheck Warnings: 1