Package: mitoClone2 Version: 1.15.1 Command: /Library/Frameworks/R.framework/Resources/bin/R CMD build --keep-empty-dirs --no-resave-data mitoClone2 StartedAt: 2025-07-01 17:41:22 -0400 (Tue, 01 Jul 2025) EndedAt: 2025-07-01 17:47:51 -0400 (Tue, 01 Jul 2025) EllapsedTime: 389.2 seconds RetCode: 0 Status: OK PackageFile: mitoClone2_1.15.1.tar.gz PackageFileSize: 1.445 MiB