Package: mitoClone2 Version: 1.15.1 Command: rm -rf mitoClone2.buildbin-libdir && mkdir mitoClone2.buildbin-libdir && /Users/biocbuild/BBS/utils/build-universal.sh mitoClone2_1.15.1.tar.gz /Library/Frameworks/R.framework/Resources/bin/R mitoClone2.buildbin-libdir StartedAt: 2025-07-02 01:06:57 -0400 (Wed, 02 Jul 2025) EndedAt: 2025-07-02 01:08:10 -0400 (Wed, 02 Jul 2025) EllapsedTime: 72.5 seconds RetCode: 0 Status: OK PackageFile: mitoClone2_1.15.1.tgz PackageFileSize: 2.079 MiB