Package: mitch Version: 1.21.3 Command: /Library/Frameworks/R.framework/Resources/bin/R CMD INSTALL mitch StartedAt: 2025-07-22 15:05:55 -0400 (Tue, 22 Jul 2025) EndedAt: 2025-07-22 15:05:59 -0400 (Tue, 22 Jul 2025) EllapsedTime: 4.9 seconds RetCode: 0 Status: OK