Package: mitch Version: 1.21.3 Command: /Library/Frameworks/R.framework/Resources/bin/R CMD check --install=check:mitch.install-out.txt --library=/Library/Frameworks/R.framework/Resources/library --no-vignettes --timings mitch_1.21.3.tar.gz StartedAt: 2025-07-22 20:15:42 -0400 (Tue, 22 Jul 2025) EndedAt: 2025-07-22 20:17:03 -0400 (Tue, 22 Jul 2025) EllapsedTime: 80.9 seconds RetCode: 0 Status: OK CheckDir: mitch.Rcheck Warnings: 0