Package: mitch Version: 1.21.3 Command: /Library/Frameworks/R.framework/Resources/bin/R CMD build --keep-empty-dirs --no-resave-data mitch StartedAt: 2025-07-22 16:56:00 -0400 (Tue, 22 Jul 2025) EndedAt: 2025-07-22 16:59:33 -0400 (Tue, 22 Jul 2025) EllapsedTime: 213.3 seconds RetCode: 0 Status: OK PackageFile: mitch_1.21.3.tar.gz PackageFileSize: 1.133 MiB