Package: mitch Version: 1.21.3 Command: rm -rf mitch.buildbin-libdir && mkdir mitch.buildbin-libdir && /Users/biocbuild/BBS/utils/build-universal.sh mitch_1.21.3.tar.gz /Library/Frameworks/R.framework/Resources/bin/R mitch.buildbin-libdir StartedAt: 2025-07-22 22:31:24 -0400 (Tue, 22 Jul 2025) EndedAt: 2025-07-22 22:31:28 -0400 (Tue, 22 Jul 2025) EllapsedTime: 4.1 seconds RetCode: 0 Status: OK PackageFile: mitch_1.21.3.tgz PackageFileSize: 1.266 MiB