Package: mistyR Version: 1.17.0 Command: /home/biocbuild/R/R/bin/R CMD INSTALL mistyR StartedAt: 2025-07-17 20:19:18 -0000 (Thu, 17 Jul 2025) EndedAt: 2025-07-17 20:19:51 -0000 (Thu, 17 Jul 2025) EllapsedTime: 33.5 seconds RetCode: 0 Status: OK