Package: mistyR Version: 1.17.0 Command: /home/biocbuild/R/R/bin/R CMD check --install=check:mistyR.install-out.txt --library=/home/biocbuild/R/R/site-library --no-vignettes --timings mistyR_1.17.0.tar.gz StartedAt: 2025-07-18 08:43:24 -0000 (Fri, 18 Jul 2025) EndedAt: 2025-07-18 08:55:20 -0000 (Fri, 18 Jul 2025) EllapsedTime: 716.1 seconds RetCode: 1 Status: ERROR CheckDir: mistyR.Rcheck Warnings: NA