Package: mistyR Version: 1.17.0 Command: /home/biocbuild/R/R/bin/R CMD build --keep-empty-dirs --no-resave-data mistyR StartedAt: 2025-07-18 01:17:36 -0000 (Fri, 18 Jul 2025) EndedAt: 2025-07-18 01:20:28 -0000 (Fri, 18 Jul 2025) EllapsedTime: 172.1 seconds RetCode: 0 Status: OK PackageFile: mistyR_1.17.0.tar.gz PackageFileSize: 2.863 MiB