Package: mist Version: 1.1.0 Command: /Library/Frameworks/R.framework/Resources/bin/R CMD INSTALL mist StartedAt: 2025-07-01 15:42:39 -0400 (Tue, 01 Jul 2025) EndedAt: 2025-07-01 15:43:20 -0400 (Tue, 01 Jul 2025) EllapsedTime: 40.6 seconds RetCode: 0 Status: OK