Package: mist Version: 1.1.0 Command: /Library/Frameworks/R.framework/Resources/bin/R CMD INSTALL mist StartedAt: 2025-07-21 15:17:57 -0400 (Mon, 21 Jul 2025) EndedAt: 2025-07-21 15:18:09 -0400 (Mon, 21 Jul 2025) EllapsedTime: 12.3 seconds RetCode: 0 Status: OK