Package: mist Version: 1.1.0 Command: /Library/Frameworks/R.framework/Resources/bin/R CMD build --keep-empty-dirs --no-resave-data mist StartedAt: 2025-07-21 16:55:42 -0400 (Mon, 21 Jul 2025) EndedAt: 2025-07-21 16:56:22 -0400 (Mon, 21 Jul 2025) EllapsedTime: 39.4 seconds RetCode: 0 Status: OK PackageFile: mist_1.1.0.tar.gz PackageFileSize: 514.4 KiB