Package: missRows Version: 1.29.0 Command: F:\biocbuild\bbs-3.22-bioc\R\bin\R.exe CMD check --no-multiarch --install=check:missRows.install-out.txt --library=F:\biocbuild\bbs-3.22-bioc\R\library --no-vignettes --timings missRows_1.29.0.tar.gz StartedAt: 2025-07-15 04:02:04 -0400 (Tue, 15 Jul 2025) EndedAt: 2025-07-15 04:05:52 -0400 (Tue, 15 Jul 2025) EllapsedTime: 227.9 seconds RetCode: 0 Status: OK CheckDir: missRows.Rcheck Warnings: 0