Package: missRows Version: 1.29.0 Command: rm -rf missRows.buildbin-libdir && mkdir missRows.buildbin-libdir && F:\biocbuild\bbs-3.22-bioc\R\bin\R.exe CMD INSTALL --build --library=missRows.buildbin-libdir missRows_1.29.0.tar.gz StartedAt: 2025-07-16 09:20:21 -0400 (Wed, 16 Jul 2025) EndedAt: 2025-07-16 09:21:06 -0400 (Wed, 16 Jul 2025) EllapsedTime: 45.8 seconds RetCode: 0 Status: OK PackageFile: missRows_1.29.0.zip PackageFileSize: 843.7 KiB