Package: missMethyl Version: 1.43.0 Command: /home/biocbuild/R/R/bin/R CMD INSTALL missMethyl StartedAt: 2025-07-24 22:09:34 -0000 (Thu, 24 Jul 2025) EndedAt: 2025-07-24 22:15:18 -0000 (Thu, 24 Jul 2025) EllapsedTime: 343.6 seconds RetCode: 0 Status: OK