Package: missMethyl Version: 1.43.0 Command: /Library/Frameworks/R.framework/Resources/bin/R CMD INSTALL missMethyl StartedAt: 2025-07-20 15:31:23 -0400 (Sun, 20 Jul 2025) EndedAt: 2025-07-20 15:33:45 -0400 (Sun, 20 Jul 2025) EllapsedTime: 141.4 seconds RetCode: 0 Status: OK