Package: missMethyl Version: 1.43.0 Command: /Library/Frameworks/R.framework/Resources/bin/R CMD build --keep-empty-dirs --no-resave-data missMethyl StartedAt: 2025-07-20 16:56:32 -0400 (Sun, 20 Jul 2025) EndedAt: 2025-07-20 17:04:39 -0400 (Sun, 20 Jul 2025) EllapsedTime: 486.5 seconds RetCode: 0 Status: OK PackageFile: missMethyl_1.43.0.tar.gz PackageFileSize: 1.529 MiB