Package: missMethyl Version: 1.43.0 Command: rm -rf missMethyl.buildbin-libdir && mkdir missMethyl.buildbin-libdir && /Users/biocbuild/BBS/utils/build-universal.sh missMethyl_1.43.0.tar.gz /Library/Frameworks/R.framework/Resources/bin/R missMethyl.buildbin-libdir StartedAt: 2025-07-20 22:32:53 -0400 (Sun, 20 Jul 2025) EndedAt: 2025-07-20 22:35:53 -0400 (Sun, 20 Jul 2025) EllapsedTime: 179.6 seconds RetCode: 0 Status: OK PackageFile: missMethyl_1.43.0.tgz PackageFileSize: 1.64 MiB