Package: mirTarRnaSeq Version: 1.17.0 Command: /home/biocbuild/R/R/bin/R CMD INSTALL mirTarRnaSeq StartedAt: 2025-07-07 20:13:33 -0000 (Mon, 07 Jul 2025) EndedAt: 2025-07-07 20:14:02 -0000 (Mon, 07 Jul 2025) EllapsedTime: 28.8 seconds RetCode: 0 Status: OK