Package: mirTarRnaSeq Version: 1.17.0 Command: /home/biocbuild/R/R/bin/R CMD check --install=check:mirTarRnaSeq.install-out.txt --library=/home/biocbuild/R/R/site-library --no-vignettes --timings mirTarRnaSeq_1.17.0.tar.gz StartedAt: 2025-07-08 08:36:26 -0000 (Tue, 08 Jul 2025) EndedAt: 2025-07-08 08:37:32 -0000 (Tue, 08 Jul 2025) EllapsedTime: 66.1 seconds RetCode: 0 Status: OK CheckDir: mirTarRnaSeq.Rcheck Warnings: 0