Package: mirTarRnaSeq Version: 1.17.0 Command: /home/biocbuild/R/R/bin/R CMD build --keep-empty-dirs --no-resave-data mirTarRnaSeq StartedAt: 2025-07-08 00:53:17 -0000 (Tue, 08 Jul 2025) EndedAt: 2025-07-08 00:57:36 -0000 (Tue, 08 Jul 2025) EllapsedTime: 259.1 seconds RetCode: 0 Status: OK PackageFile: mirTarRnaSeq_1.17.0.tar.gz PackageFileSize: 3.421 MiB