Package: mirTarRnaSeq Version: 1.17.0 Command: /Library/Frameworks/R.framework/Resources/bin/R CMD INSTALL mirTarRnaSeq StartedAt: 2025-07-11 15:10:32 -0400 (Fri, 11 Jul 2025) EndedAt: 2025-07-11 15:10:55 -0400 (Fri, 11 Jul 2025) EllapsedTime: 22.4 seconds RetCode: 0 Status: OK