Package: mirTarRnaSeq Version: 1.17.0 Command: /Library/Frameworks/R.framework/Resources/bin/R CMD check --install=check:mirTarRnaSeq.install-out.txt --library=/Library/Frameworks/R.framework/Resources/library --no-vignettes --timings mirTarRnaSeq_1.17.0.tar.gz StartedAt: 2025-07-11 21:59:07 -0400 (Fri, 11 Jul 2025) EndedAt: 2025-07-11 22:00:18 -0400 (Fri, 11 Jul 2025) EllapsedTime: 71.3 seconds RetCode: 0 Status: OK CheckDir: mirTarRnaSeq.Rcheck Warnings: 0