Package: mirTarRnaSeq Version: 1.17.0 Command: /Library/Frameworks/R.framework/Resources/bin/R CMD build --keep-empty-dirs --no-resave-data mirTarRnaSeq StartedAt: 2025-07-11 17:36:20 -0400 (Fri, 11 Jul 2025) EndedAt: 2025-07-11 17:39:52 -0400 (Fri, 11 Jul 2025) EllapsedTime: 212.5 seconds RetCode: 0 Status: OK PackageFile: mirTarRnaSeq_1.17.0.tar.gz PackageFileSize: 3.426 MiB