Package: mirTarRnaSeq Version: 1.17.0 Command: rm -rf mirTarRnaSeq.buildbin-libdir && mkdir mirTarRnaSeq.buildbin-libdir && /Users/biocbuild/BBS/utils/build-universal.sh mirTarRnaSeq_1.17.0.tar.gz /Library/Frameworks/R.framework/Resources/bin/R mirTarRnaSeq.buildbin-libdir StartedAt: 2025-07-12 01:06:06 -0400 (Sat, 12 Jul 2025) EndedAt: 2025-07-12 01:06:22 -0400 (Sat, 12 Jul 2025) EllapsedTime: 16.1 seconds RetCode: 0 Status: OK PackageFile: mirTarRnaSeq_1.17.0.tgz PackageFileSize: 4.262 MiB